BEGIN:VCALENDAR
VERSION:2.0
PRODID:-//ChamberMaster//Event Calendar 2.0//EN
METHOD:PUBLISH
X-PUBLISHED-TTL:P1H
REFRESH-INTERVAL:P1H
CALSCALE:GREGORIAN
BEGIN:VTIMEZONE
TZID:America/Denver
BEGIN:DAYLIGHT
RRULE:FREQ=YEARLY;BYMONTH=3;BYDAY=2SU
DTSTART:20070101T000000
TZOFFSETFROM:-0700
TZOFFSETTO:-0600
TZNAME:Mountain Daylight Time
END:DAYLIGHT
BEGIN:STANDARD
RRULE:FREQ=YEARLY;BYMONTH=11;BYDAY=1SU
DTSTART:20070101T000000
TZOFFSETFROM:-0600
TZOFFSETTO:-0700
TZNAME:Mountain Standard Time
END:STANDARD
END:VTIMEZONE
BEGIN:VEVENT
DTSTART;TZID=America/Denver:20260310T173000
DTEND;TZID=America/Denver:20260310T193000
X-MICROSOFT-CDO-ALLDAYEVENT:FALSE
SUMMARY:Spring Doormat Workshop
DESCRIPTION:Grap a friend or two and join us in designing a spring door mat for your front entrance. Choose one of four designs ahead of time. The night of the workshop you will choose the color that best fits your style. SIGN UP BY FEBRUARY 24th. \n5:30-7:30PM\, $40 Call\, email\, or stop by the college to sign up for the class and pick out your design.
X-ALT-DESC;FMTTYPE=text/html:<!DOCTYPE html><html><head><title></title></head><body aria-disabled="false"><p>Grap a friend or two and join us in designing a spring door mat for your front entrance. Choose one of four designs ahead of time. The night of the workshop you will choose the color that best fits your style.&nbsp\;</p><p>SIGN UP BY FEBRUARY 24th.&nbsp\;</p><p><br></p><p>5:30-7:30PM\, $40&nbsp\;</p><p>Call\, email\, or stop by the college to sign up for the class and pick out your design.</p></body></html>
LOCATION:PO Box 148 Imperial NE 69033-0148
UID:e.3955.1379091
SEQUENCE:3
DTSTAMP:20260421T082925Z
URL:https://business.imperialchamber.com/events/Details/spring-doormat-workshop-1628521?sourceTypeId=Hub
END:VEVENT
END:VCALENDAR
